Workbook

Sheet THỰC HIỆN THU 11 THÁNG
A1: ỦY BAN NHÂN DÂN
A2: XÃ THẠCH HÀ
A4: PHỤ LỤC 01: BÁO CÁO TÌNH HÌNH THỰC HIỆN DỰ TOÁN THU NSNN 11 THÁNG NĂM 2025
A5: (Kèm theo báo cáo số /BC-UBND ngày / / của UBND xã)
H6: Đơn vị tính: Triệu đồng
A7: TT | B7: Nội dung | C7: Dự toán tỉnh giao | E7: Dự toán HĐND xã giao | G7: Thực hiện tính đến 30/11/2025 | I7: Đạt tỷ lệ so với dự toán tỉnh giao | J7: Đạt tỷ lệ so với dự toán HĐND xã giao
C8: NSNN | D8: Xã hưởng | E8: NSNN | F8: Xã hưởng | G8: NSNN | H8: Xã hưởng
A9: (1) | B9: (2) | C9: (3) | D9: (4) | E9: (5) | F9: (6) | G9: (7) | H9: (8) | I9: (9)=(7)/(3)*100 | J9: (10)=(7)/(5)*100
A10: Tổng cộng | C10: =C11+C36+C34+C35 -> 481469 | D10: =D11+D36+D34+D35 -> 442228.6 | E10: =E11+E36+E34+E35 -> 502803.41 | F10: =F11+F36+F34+F35 -> 447987.81 | G10: =G11+G36+G34+G35 -> 510637.96 | H10: =H11+H36+H34+H35 -> 426952.92 | I10: =G10/C10*100 -> 106.05833 | J10: =G10/E10*100 -> 101.55817
A11: I | B11: Thu NSNN trên địa bàn | C11: =C12+C15+C20+C21+C22+C25+C26+C32+C33 -> 65399 | D11: =D12+D15+D20+D21+D22+D25+D26+D32+D33 -> 26158.6 | E11: =E12+E15+E20+E21+E22+E25+E26+E32+E33 -> 86733.411 | F11: =F12+F15+F20+F21+F22+F25+F26+F32+F33 -> 31917.811 | G11: =G12+G15+G20+G21+G22+G25+G26+G32+G33 -> 122415.51 | H11: =H12+H15+H20+H21+H22+H25+H26+H32+H33 -> 38730.461 | I11: =G11/C11*100 -> 187.18254 | J11: =G11/E11*100 -> 141.13997
A12: 1.1 | B12: Thu tại xã. Trong đó: | C12: =C13+C14 -> 85 | D12: =D13+D14 -> 85 | E12: =E13+E14 -> 808.016 | F12: =F13+F14 -> 808.016 | G12: =G13+G14 -> 999.58498 | H12: =H13+H14 -> 999.58498 | I12: =G12/C12*100 -> 1175.9823 | J12: =G12/E12*100 -> 123.70856
B13: Thu tại xã | C13: 61 | D13: 61 | E13: 743.216 | F13: 743.216 | G13: 980.38498 | H13: 980.38498 | I13: =G13/C13*100 -> 1607.1885 | J13: =G13/E13*100 -> 131.91118
B14: Thu hoa lợi | C14: 24 | D14: 24 | E14: 64.8 | F14: 64.8 | G14: 19.2 | H14: =G14 -> 19.2 | I14: =G14/C14*100 -> 80 | J14: =G14/E14*100 -> 29.62963
A15: 2 | B15: Thu phí, lệ phí. Trong đó: | C15: =C16+C19 -> 383 | D15: =D16+D19 -> 163 | E15: =E16+E19 -> 544.395 | F15: =F16+F19 -> 324.395 | G15: =G16+G19 -> 576.6353 | H15: =H16+H19 -> 213.4443 | I15: =G15/C15*100 -> 150.55752 | J15: =G15/E15*100 -> 105.92223
A16: 2.1 | B16: Lệ phí môn bài | C16: =SUM(C17:C18) -> 332 | D16: =SUM(D17:D18) -> 112 | E16: =SUM(E17:E18) -> 462 | F16: =SUM(F17:F18) -> 242 | G16: =SUM(G17:G18) -> 319.25 | H16: =SUM(H17:H18) -> 138.75 | I16: =G16/C16*100 -> 96.159639 | J16: =G16/E16*100 -> 69.101732
B17: Doanh nghiệp, hợp tác xã | C17: 220 | D17: 0 | E17: 220 | F17: 0 | G17: 180.5 | H17: 0 | I17: =G17/C17*100 -> 82.045455 | J17: =G17/E17*100 -> 82.045455
B18: Cá nhân, hộ kinh doanh | C18: 112 | D18: 112 | E18: 242 | F18: 242 | G18: 138.75 | H18: =G18 -> 138.75 | I18: =G18/C18*100 -> 123.88393 | J18: =G18/E18*100 -> 57.334711
A19: 2.2 | B19: Phí, lệ phí (còn lại) | C19: 51 | D19: 51 | E19: 82.395 | F19: 82.395 | G19: =74.694299+182.691004 -> 257.3853 | H19: =74.694299 -> 74.694299 | I19: =G19/C19*100 -> 504.67706 | J19: =G19/E19*100 -> 312.37976
A20: 3 | B20: Tiền sử dụng đất | C20: 38820 | D20: 21834 | E20: 56344 | F20: =E20*45% -> 25354.8 | G20: 67616.053 | H20: 30427.224 | I20: =G20/C20*100 -> 174.1784 | J20: =G20/E20*100 -> 120.00577
A21: 4 | B21: Tiền thuê mặt đất, mặt nước | C21: 1047 | D21: 14.1 | E21: 1552 | F21: 165.6 | G21: 750.10965 | H21: 195.08898 | I21: =G21/C21*100 -> 71.64371 | J21: =G21/E21*100 -> 48.331807
A22: 5 | B22: Lệ phí trước bạ | C22: =SUM(C23:C24) -> 8025 | D22: =SUM(D23:D24) -> 436 | E22: =SUM(E23:E24) -> 8545 | F22: =SUM(F23:F24) -> 852 | G22: =SUM(G23:G24) -> 10581.072 | H22: =SUM(H23:H24) -> 1161.9246 | I22: =G22/C22*100 -> 131.85137 | J22: =G22/E22*100 -> 123.82764
B23: Trước bạ nhà, đất | C23: 545 | D23: 436 | E23: 1065 | F23: 852 | G23: 1452.4057 | H23: 1161.9246 | I23: =G23/C23*100 -> 266.49646 | J23: =G23/E23*100 -> 136.37612
B24: Trước bạ các tài sản khác | C24: 7480 | D24: 0 | E24: 7480 | F24: 0 | G24: 9128.6665 | H24: 0 | I24: =G24/C24*100 -> 122.041 | J24: =G24/E24*100 -> 122.041
A25: 6 | B25: Thuế phi nông nghiệp | C25: 208 | D25: 208 | E25: 490 | F25: 490 | G25: 407.66678 | H25: 407.66678 | I25: =G25/C25*100 -> 195.99364 | J25: =G25/E25*100 -> 83.197302
A26: 7 | B26: Thu từ khu vực ngoài quốc doanh | C26: =C27+C30+C31 -> 14531 | D26: =D27+D30+D31 -> 3418.5 | E26: =E27+E30+E31 -> 16150 | F26: =F27+F30+F31 -> 3923 | G26: =G27+G30+G31 -> 32936.183 | H26: =H27+H30+H31 -> 5295.5269 | I26: =G26/C26*100 -> 226.6615 | J26: =G26/E26*100 -> 203.93921
A27: 7.1 | B27: Thuế VAT - TNDN | C27: =SUM(C28:C29) -> 14490 | D27: =SUM(D28:D29) -> 3398 | E27: =SUM(E28:E29) -> 16090 | F27: =SUM(F28:F29) -> 3893 | G27: =SUM(G28:G29) -> 32675.804 | H27: =SUM(H28:H29) -> 5217.9231 | I27: =G27/C27*100 -> 225.5059 | J27: =G27/E27*100 -> 203.08144
B28: Doanh nghiệp, hợp tác xã | C28: 13490 | D28: 2698 | E28: 14740 | F28: 2948 | G28: 30739.282 | H28: 3876.5395 | I28: =G28/C28*100 -> 227.86718 | J28: =G28/E28*100 -> 208.5433
B29: Hộ cá thể | C29: 1000 | D29: 700 | E29: 1350 | F29: 945 | G29: 1936.5222 | H29: 1341.3836 | I29: =G29/C29*100 -> 193.65222 | J29: =G29/E29*100 -> 143.44609
A30: 7.2 | B30: Thuế tiêu thụ đặc biệt | C30: 41 | D30: 20.5 | E30: 60 | F30: 30 | G30: 85.093559 | H30: 42.546784 | I30: =G30/C30*100 -> 207.54527 | J30: =G30/E30*100 -> 141.8226
A31: 7.3 | B31: Thuế Tài nguyên | C31: 0 | D31: 0 | E31: 0 | F31: 0 | G31: 175.2849 | H31: 35.056983
A32: 8 | B32: Thuế thu nhập cá nhân | C32: 2300 | D32: 0 | E32: 2300 | F32: 0 | G32: =8499.329968+18.872155 -> 8518.2021 | H32: 0 | I32: =G32/C32*100 -> 370.35661 | J32: =G32/E32*100 -> 370.35661
A33: 9 | B33: Thu đóng góp CSHT | C33: 0 | D33: 0 | E33: 0 | F33: 0 | G33: 30 | H33: 30
A34: II | B34: Thu chuyển nguồn năm trước | C34: 2900 | D34: 2900 | E34: 2900 | F34: 2900 | G34: 2899.944 | H34: =G34 -> 2899.944 | I34: =G34/C34*100 -> 99.998069 | J34: =G34/E34*100 -> 99.998069
A35: III | B35: Thu kết dư ngân sách | C35: 904 | D35: 904 | E35: 904 | F35: 904 | G35: 897.32104 | H35: =G35 -> 897.32104 | I35: =G35/C35*100 -> 99.261177 | J35: =G35/E35*100 -> 99.261177
A36: IV | B36: Thu bổ sung từ NS cấp trên | C36: =C37+C38 -> 412266 | D36: =D37+D38 -> 412266 | E36: =E37+E38 -> 412266 | F36: =F37+F38 -> 412266 | G36: =G37+G38 -> 384425.19 | H36: =H37+H38 -> 384425.19 | I36: =G36/C36*100 -> 93.246882 | J36: =G36/E36*100 -> 93.246882
A37: 1 | B37: Thu bổ sung cân đối | C37: =27715+327058 -> 354773 | D37: =27715+327058 -> 354773 | E37: =27715+327058 -> 354773 | F37: =27715+327058 -> 354773 | G37: 326932.64 | H37: =G37 -> 326932.64 | I37: =G37/C37*100 -> 92.152626 | J37: =G37/E37*100 -> 92.152626
A38: 2 | B38: Thu bổ sung có mục tiêu | C38: 57493 | D38: 57493 | E38: 57493 | F38: 57493 | G38: 57492.556 | H38: =G38 -> 57492.556 | I38: =G38/C38*100 -> 99.999227 | J38: =G38/E38*100 -> 99.999227
H40: ỦY BAN NHÂN DÂN XÃ

Sheet THỰC HIỆN CHI 11 THÁNG
A1: ỦY BAN NHÂN DÂN
A2: XÃ THẠCH HÀ
A4: PHỤ LỤC 02: BÁO CÁO TÌNH HÌNH THỰC HIỆN DỰ TOÁN CHI NSNN 11 THÁNG NĂM 2025
A5: (Kèm theo báo cáo số /BC-UBND ngày / / của UBND xã)
D6: Đơn vị tính: Triệu đồng
A7: TT | B7: Nội dung | C7: Dự toán HĐND xã giao | D7: Thực hiện | E7: Trong đó | G7: Tỷ lệ (%)
E8: 6 tháng đầu năm | F8: 5 tháng cuối năm
B9: Tổng cộng | C9: =C10+C12+C91+C92+C97+C98+C99+C102+C105+1 -> 447988.2 | D9: =D10+D12+D91+D92+D97+D98+D99+D102+D105+1 -> 419686.91 | E9: =E10+E12+E91+E92+E97+E98+E99+E102+E105 -> 314658.82 | F9: =F10+F12+F91+F92+F97+F98+F99+F102+F105 -> 105052.84 | G9: =D9/C9*100 -> 93.682581
A10: I | B10: Chi đầu tư phát triển | C10: =C11 -> 25354.8 | D10: =D11 -> 10174.964 | E10: =E11 -> 10174.964 | F10: =F11 -> 0 | G10: =D10/C10*100 -> 40.130326
A11: 1 | B11: Chi đầu tư xây dựng cơ bản | C11: =25354.8 -> 25354.8 | D11: =E11+F11 -> 10174.964 | E11: 10174.964 | G11: =D11/C11*100 -> 40.130326
A12: II | B12: Chi thường xuyên | C12: =C13+C18+C22+C24+C29+C37+C40+C42+C85+C90 -> 360132.82 | D12: =D13+D18+D22+D24+D29+D37+D40+D42+D85+D90 -> 356383.84 | E12: =E13+E18+E22+E24+E29+E37+E40+E42+E85+E90 -> 284080.1 | F12: =F13+F18+F22+F24+F29+F37+F40+F42+F85+F90 -> 72329.49 | G12: =D12/C12*100 -> 98.959003
A13: 1 | B13: Chi an ninh - Quốc phòng | C13: =C14+C15 -> 1546.181 | D13: =D14+D15 -> 1485.486 | E13: =E14+E15 -> 840.486 | F13: =F14+F15 -> 645 | G13: =D13/C13*100 -> 96.074522
A14: - | B14: An ninh | C14: 304 | D14: =E14+F14 -> 243.305 | E14: 133.305 | F14: 110 | G14: =D14/C14*100 -> 80.034539
A15: - | B15: Quốc phòng | C15: =C16+C17 -> 1242.181 | D15: =D16+D17 -> 1242.181 | E15: =E16+E17 -> 707.181 | F15: =F16+F17 -> 535 | G15: =D15/C15*100 -> 100
B16: Kinh phí thực hiện nhiệm vụ quốc phòng theo định mức | C16: =807.181 -> 807.181 | D16: =E16+F16 -> 807.181 | E16: 707.181 | F16: =C16-E16 -> 100 | G16: =D16/C16*100 -> 100
B17: Bổ sung kinh phí thực hiện Luật dân quân tự vệ, Nghị định số 72/2020/NĐ-CP ngày 30/6/2020 của Chính phủ | C17: =435 -> 435 | D17: =E17+F17 -> 435 | E17: 0 | F17: =C17-E17 -> 435 | G17: =D17/C17*100 -> 100
A18: 2 | B18: Sự nghiệp GD-ĐT và trung tâm chính trị xã | C18: =+SUM(C19:C21) -> 96899.16 | D18: =+SUM(D19:D21) -> 96832.046 | E18: =+SUM(E19:E21) -> 47622.204 | F18: =+SUM(F19:F21) -> 49209.842 | G18: =D18/C18*100 -> 99.930738
A19: - | B19: Sự nghiệp giáo dục, đào tạo | C19: 94792 | D19: =E19+F19 -> 94724.886 | E19: 46496.084 | F19: =48135.801836+93 -> 48228.802 | G19: =D19/C19*100 -> 99.929199
A20: - | B20: Trung tâm giáo dục cộng đồng | C20: 56.16 | D20: =E20+F20 -> 56.16 | E20: 42.12 | F20: =C20-E20 -> 14.04 | G20: =D20/C20*100 -> 100
A21: - | B21: Trung tâm chính trị xã | C21: 2051 | D21: =E21+F21 -> 2051 | E21: 1084 | F21: =C21-E21 -> 967 | G21: =D21/C21*100 -> 100
A22: 3 | B22: Chi sự nghiệp y tế | C22: =C23 -> 1002 | D22: =D23 -> 805.545 | E22: =E23 -> 0 | F22: =F23 -> 805.545 | G22: =D22/C22*100 -> 80.393713
B23: Bảo hiểm y tế 6 tháng cuối năm 2025 đối tượng BTXH | C23: 1002 | D23: =E23+F23 -> 805.545 | E23: 0 | F23: =805.545 -> 805.545 | G23: =D23/C23*100 -> 80.393713
A24: 4 | B24: Sự nghiệp Văn hóa thông tin, phát thanh truyền hình, thể dục thể thao | C24: =SUM(C25:C28) -> 534 | D24: =SUM(D25:D28) -> 515 | E24: =SUM(E25:E28) -> 240.1 | F24: =SUM(F25:F28) -> 293.9 | G24: =D24/C24*100 -> 96.441948
A25: - | B25: Phân bổ theo định mức | C25: 240 | D25: =E25+F25 -> 240 | E25: 199 | F25: =41 -> 41 | G25: =D25/C25*100 -> 100
A26: - | B26: Đại hội TDTT | C26: 120 | D26: =E26+F26 -> 120 | E26: 0 | F26: =120 -> 120 | G26: =D26/C26*100 -> 100
A27: - | B27: Kinh phí cụm dân cư | C27: 155 | D27: =E27+F27 -> 155 | E27: 37.5 | F27: 117.5 | G27: =D27/C27*100 -> 100
A28: - | B28: Kinh phí bảo vệ di tích | C28: 19 | E28: 3.6 | F28: =C28-E28 -> 15.4 | G28: =D28/C28*100 -> 0
A29: 5 | B29: Chi đảm bảo xã hội | C29: =SUM(C30:C36) -> 8390.9948 | D29: =SUM(D30:D36) -> 5803.4448 | E29: =SUM(E30:E36) -> 636.1224 | F29: =SUM(F30:F36) -> 5174.0724 | G29: =D29/C29*100 -> 69.162774
A30: - | B30: Chế độ trợ cấp hằng tháng cán bộ xã, thị trấn đã nghỉ việc | C30: 778.7448 | D30: =E30+F30 -> 778.7448 | E30: 389.3724 | F30: 389.3724 | G30: =D30/C30*100 -> 100
A31: - | B31: Hỗ trợ người được phân công giúp đỡ | C31: 6.75 | E31: 2.25 | F31: =C31-E31 -> 4.5 | G31: =D31/C31*100 -> 0
A32: - | B32: Kinh phí chúc thọ mừng thọ | C32: 181.5 | D32: =E32+F32 -> 181.5 | E32: 181.5 | F32: =C32-E32 -> 0 | G32: =D32/C32*100 -> 100
A33: - | B33: Chi khác đảm bảo xã hội | C33: 235 | D33: =E33+F33 -> 63 | E33: 63 | F33: 0 | G33: =D33/C33*100 -> 26.808511
A34: - | B34: Mai táng phí | C34: 181 | D34: =E34+F34 -> 80.2 | F34: =33.4+46.8 -> 80.2 | G34: =D34/C34*100 -> 44.309392
A35: - | B35: Trợ giúp xã hội các tối tượng 6 tháng cuối năm | C35: 6925 | D35: =E35+F35 -> 4700 | F35: =2300+2400 -> 4700 | G35: =D35/C35*100 -> 67.870036
A36: - | B36: Tiền điện hộ nghèo 6 tháng cuối năm | C36: 83 | D36: =E36+F36 -> 0 | E36: 0 | F36: 0 | G36: =D36/C36*100 -> 0
A37: 6 | B37: Sự nghiệp kinh tế | C37: =+SUM(C38:C39) -> 837 | D37: =+SUM(D38:D39) -> 837 | E37: =+SUM(E38:E39) -> 650 | F37: =+SUM(F38:F39) -> 187 | G37: =D37/C37*100 -> 100
A38: - | B38: Chi sự nghiệp kinh tế | C38: 437 | D38: =E38+F38 -> 437 | E38: 250 | F38: =C38-E38 -> 187 | G38: =D38/C38*100 -> 100
A39: - | B39: Kiến thiết thị chính | C39: 400 | D39: =E39+F39 -> 400 | E39: 400 | F39: =C39-E39 -> 0 | G39: =D39/C39*100 -> 100
A40: 7 | B40: Sự nghiệp môi trường | C40: =C41 -> 958.68 | D40: =D41 -> 958.68 | E40: =E41 -> 660.37042 | F40: =F41 -> 298.30958 | G40: =D40/C40*100 -> 100
A41: - | B41: Chi sự nghiệp môi trường | C41: 958.68 | D41: =E41+F41 -> 958.68 | E41: 660.37042 | F41: 298.30958 | G41: =D41/C41*100 -> 100
...

Sheet CÂN ĐỐI
A1: ỦY BAN NHÂN DÂN
A2: XÃ THẠCH HÀ
A4: PHỤ LỤC 08: CÂN ĐỐI NGÂN SÁCH XÃ NĂM 2026
A5: (Kèm theo báo cáo số /BC-UBND ngày / / của UBND xã)
C6: Đơn vị: Triệu đồng
A7: STT | B7: NỘI DUNG | C7: Dự toán năm 2026
A8: A | B8: TỔNG THU NGÂN SÁCH XÃ | C8: =+C9+C12 -> 258188
A9: I | B9: Thu ngân sách xã được hưởng theo phân cấp | C9: =C10+C11 -> 53910
A10: - | B10: Các khoản thu xã hưởng 100% | C10: ='DỰ TOÁN THU'!H12 -> 320
A11: - | B11: Thu ngân sách xã hưởng từ các khoản thu phân chia | C11: ='DỰ TOÁN THU'!H15+'DỰ TOÁN THU'!H20+'DỰ TOÁN THU'!H21+'DỰ TOÁN THU'!H22+'DỰ TOÁN THU'!H25+'DỰ TOÁN THU'!H26+'DỰ TOÁN THU'!H30 -> 53590
A12: II | B12: Thu bổ sung từ ngân sách cấp trên | C12: =+C13+C14 -> 204278
A13: - | B13: Thu bổ sung cân đối | C13: ='DỰ TOÁN THU'!H32 -> 154822
A14: - | B14: Thu bổ sung có mục tiêu | C14: ='DỰ TOÁN THU'!H33 -> 49456
A15: B | B15: TỔNG CHI NGÂN SÁCH XÃ | C15: =C16+C22+C23+C24+C25 -> 258188
A16: 1 | B16: Chi đầu tư phát triển. | C16: =C17+C21 -> 49200
A17: 1.1 | B17: Chi đầu tư phát triển từ nguồn NS xã | C17: =C18+C19+C20 -> 38200
B18: Bố trí quy hoạch, đo đạc sử dụng đất | C18: =500+200 -> 700
B19: Tiết kiệm chi 5% | C19: ='DỰ TOÁN CHI'!C12 -> 1910
B20: XDCB | C20: ='DỰ TOÁN CHI'!C11-700 -> 35590
A21: 1.2 | B21: Chi đầu tư phát triển từ nguồn NS cấp trên hổ trợ | C21: 11000
A22: 2 | B22: Chi thường xuyên | C22: ='DỰ TOÁN CHI'!C14 -> 200151.7
A23: 3 | B23: Dự phòng ngân sách | C23: ='DỰ TOÁN CHI'!C127 -> 3852
A24: 4 | B24: Chi tạo nguồn, điều chỉnh tiền lương | C24: ='DỰ TOÁN CHI'!C126 -> 2901
A25: 5 | B25: Tiết kiệm 10% theo Nghị quyết số 173/2025/NQ-CP | C25: ='DỰ TOÁN CHI'!C125 -> 2083.3
B27: ỦY BAN NHÂN DÂN XÃ

Sheet DỰ TOÁN THU
A1: ỦY BAN NHÂN DÂN
A2: XÃ THẠCH HÀ
A4: PHỤ LỤC 09: PHÂN BỔ DỰ TOÁN THU NGÂN SÁCH NĂM 2026
A5: (Kèm theo báo cáo số /BC-UBND ngày / / của UBND xã)
G7: Đơn vị tính: Triệu đồng
A8: TT | B8: Nội dung | C8: Tỷ lệ phân chia | E8: Dự toán tỉnh giao | G8: Dự toán năm 2026
C9: NST | D9: NSX | E9: NSNN | F9: NS xã | G9: NSNN | H9: NS xã
B10: Tổng cộng | E10: =E11+E31 -> 274728 | F10: =F11+F31 -> 230088 | G10: =G11+G31 -> 314928 | H10: =H11+H31 -> 258188
A11: I | B11: Thu NSNN trên địa bàn | E11: =E12+E15+E20+E21+E22+E25+E26+E30 -> 70450 | F11: =F12+F15+F20+F21+F22+F25+F26+F30 -> 25810 | G11: =G12+G15+G20+G21+G22+G25+G26+G30 -> 110650 | H11: =H12+H15+H20+H21+H22+H25+H26+H30 -> 53910
A12: 1.1 | B12: Thu tại xã. | E12: =E13+E14 -> 320 | F12: =F13+F14 -> 320 | G12: =G13+G14 -> 320 | H12: =H13+H14 -> 320
B13: Thu tại xã | D13: 1 | E13: 300 | F13: =E13 -> 300 | G13: 300 | H13: =G13 -> 300
B14: Thu hoa lợi | D14: 1 | E14: 20 | F14: =E14 -> 20 | G14: 20 | H14: =G14 -> 20
A15: 2 | B15: Phí, lệ phí. | E15: =E16+E19 -> 250 | F15: =F16+F19 -> 190 | G15: =G16+G19 -> 250 | H15: =H16+H19 -> 190
A16: 2.1 | B16: Lệ phí Môn bài | E16: =E18+E17 -> 250 | F16: =F18+F17 -> 190 | G16: =G18+G17 -> 250 | H16: =H18+H17 -> 190
B17: Doanh nghiệp, hợp tác xã | C17: 1 | E17: 60 | F17: 0 | G17: =E17 -> 60 | H17: 0
B18: Cá nhân, hộ kinh doanh | D18: 1 | E18: 190 | F18: 190 | G18: =E18 -> 190 | H18: =G18 -> 190
A19: 2.2 | B19: Phí, lệ phí (còn lại) | D19: 1
A20: 3 | B20: Thu tiền cho thuê mặt đất, mặt nước | C20: 0.7 | D20: 0.3 | E20: 800 | F20: =E20*0.5 -> 400 | G20: 800 | H20: =G20*0.5 -> 400
A21: 4 | B21: Thu tiền sử dụng đất | C21: 0.55 | D21: 0.45 | E21: =40000 -> 40000 | F21: 10200 | G21: =E21+40000 -> 80000 | H21: =10200+28000 -> 38200
A22: 5 | B22: Lệ phí trước bạ | E22: =E23+E24 -> 9700 | F22: =F23+F24 -> 4850 | G22: =G23+G24 -> 9900 | H22: =H23+H24 -> 4950
B23: Trước bạ nhà, đất | C23: 0.2 | D23: 0.8 | E23: 9700 | F23: =E23*0.5 -> 4850 | G23: =9700+200 -> 9900 | H23: =G23*0.5 -> 4950
B24: Trước bạ các tài sản khác | C24: 1 | F24: 0 | H24: 0
A25: 6 | B25: Thuế sử dụng đất phi nông nghiệp | D25: 1 | E25: 320 | F25: =E25 -> 320 | G25: 320 | H25: =G25 -> 320
A26: 7 | B26: Thu từ khu vực Ngoài Quốc doanh | E26: =E27 -> 14610 | F26: =F27 -> 7305 | G26: =G27 -> 14610 | H26: =H27 -> 7305
A27: 7.1 | B27: Thuế VAT - TNDN | E27: =E28+E29 -> 14610 | F27: =F28+F29 -> 7305 | G27: =G28+G29 -> 14610 | H27: =H28+H29 -> 7305
B28: Doanh nghiệp, hợp tác xã | C28: 0.8 | D28: 0.2 | E28: =14600+10 -> 14610 | F28: =E28*50% -> 7305 | G28: =14600+10 -> 14610 | H28: =G28*50% -> 7305
B29: Hộ cá thể | C29: 0.3 | D29: 0.7 | F29: =E29*0.7 -> 0 | H29: =G29*0.7 -> 0
A30: 8 | B30: Thuế Thu nhập cá nhân | C30: 1 | E30: 4450 | F30: =E30*0.5 -> 2225 | G30: 4450 | H30: =G30*0.5 -> 2225
A31: IV | B31: Thu bổ sung từ NS cấp trên | E31: =E32+E33 -> 204278 | F31: =F32+F33 -> 204278 | G31: =G32+G33 -> 204278 | H31: =H32+H33 -> 204278
A32: 1 | B32: Thu bổ sung cân đối | E32: 154822 | F32: =E32 -> 154822 | G32: 154822 | H32: =G32 -> 154822
A33: 2 | B33: Thu bổ sung có mục tiêu cấp xã | E33: =39456+10000 -> 49456 | F33: =E33 -> 49456 | G33: =39456+10000 -> 49456 | H33: =G33 -> 49456
F35: ỦY BAN NHÂN DÂN XÃ

Sheet DỰ TOÁN CHI
A1: ỦY BAN NHÂN DÂN
A2: XÃ THẠCH HÀ
A4: PHỤ LỤC 10: PHÂN BỔ DỰ TOÁN CHI NGÂN SÁCH NHÀ NƯỚC NĂM 2026
A5: (Kèm theo báo cáo số /BC-UBND ngày / / của UBND xã)
B7: Đơn vị tính: Triệu đồng
A8: TT | B8: Nội dung | C8: Dự toán năm 2026 | D8: Ghi chú
B9: Tổng cộng | C9: =C10+C14+C125+C126+C127 -> 258188
A10: I | B10: Chi đầu tư phát triển | C10: =SUM(C11:C13) -> 49200
A11: 1 | B11: Chi đầu tư xây dựng cơ bản từ nguồn NS xã | C11: 36290
A12: 2 | B12: Tiết kiệm chi đầu tư xây dựng cơ bản 5% | C12: 1910
A13: 3 | B13: Chi đầu tư xây dựng cơ bản từ nguồn NS cấp trên hổ trợ | C13: 11000
A14: II | B14: Chi thường xuyên | C14: =C15+C27+C35+C39+C43+C59+C66+C68+C121 -> 200151.7
A15: 1 | B15: Chi an ninh - Quốc phòng | C15: =C16+C17 -> 2874
A16: - | B16: An ninh | C16: =370 -> 370
A17: - | B17: Quốc phòng | C17: =SUM(C18:C26) -> 2504
B18: PC chức vụ cán bộ DQTV | C18: =75+288 -> 363
B19: PC thâm niên cán bộ BCHQS | C19: 56
B20: PC đặc thù trung đội trưởng DQCĐ | C20: 11
B21: PC đặc thù tiểu đội trưởng DQCĐ | C21: 17
B22: Hổ trợ ngày công huấn luyện | C22: 1241
B23: Hổ trợ tiền ăn huấn luyện | C23: 271
B24: Hổ trợ vật chất huấn luyện | C24: =30 -> 30
B25: Hổ trợ tổng kết thi đua khen thưởng | C25: =15 -> 15
B26: Diễn tập phòng thủ | C26: 500
A27: 2 | B27: Sự nghiệp GD-ĐT và trung tâm chính trị xã | C27: =+SUM(C28:C29) -> 99109.7
A28: - | B28: Sự nghiệp giáo dục, đào tạo | C28: 97763
A29: - | B29: Trung tâm chính trị xã | C29: =C30+C31+C32+C33+C34 -> 1346.7
B30: Lương, phụ cấp, các khoản đóng góp theo lương | C30: 521.9
B31: Chi hoạt động theo định mức | C31: =67.3+16.9 -> 84.2
B32: Khen thưởng theo NĐ 73 | C32: 33.1
B33: Tiết kiệm chi 10% | C33: 7.5
B34: Thực hiện nhiệm vụ đào tạo | C34: 700
A35: 3 | B35: Chi sự nghiệp y tế | C35: =SUM(C36:C38) -> 3940
A36: - | B36: Sự nghiệp y tế (Trạm y tế xã) | C36: 1900
A37: - | B37: Bảo hiểm y tế đối tượng người có công | C37: 730
A38: - | B38: Bảo hiểm y tế đối tượng BTXH, HTXH, CCB, người nghèo | C38: =3210-1900 -> 1310
A39: 4 | B39: Sự nghiệp Văn hóa thông tin, phát thanh truyền hình, thể dục thể thao | C39: =SUM(C40:C42) -> 440
A40: - | B40: Phân bổ theo định mức | C40: =331 -> 331
A41: - | B41: KP phát thanh cấp xã | C41: =90 -> 90
A42: - | B42: Kinh phí bảo vệ di tích | C42: 19
...
