Workbook

Sheet THỰC HIỆN THU 2025
A1: ỦY BAN NHÂN DÂN
A2: XÃ THẠCH HÀ
A4: PHỤ LỤC 02: QUYẾT TOÁN THU NSNN NĂM 2025
A5: (Kèm theo báo cáo số /BC-UBND ngày / /2026 của UBND xã)
H6: Đơn vị tính: Triệu đồng
A7: TT | B7: Nội dung | C7: Dự toán tỉnh giao | E7: Dự toán HĐND xã giao | G7: Thực hiện | I7: Đạt tỷ lệ so với dự toán tỉnh giao | J7: Đạt tỷ lệ so với dự toán HĐND xã giao
C8: NSNN | D8: Xã hưởng | E8: NSNN | F8: Xã hưởng | G8: NSNN | H8: Xã hưởng
A9: (1) | B9: (2) | C9: (3) | D9: (4) | E9: (5) | F9: (6) | G9: (7) | H9: (8) | I9: (9)=(8)/(4)*100 | J9: (10)=(8)/(6)*100
A10: Tổng cộng | C10: =C11+C36+C34+C35 -> 481468.61 | D10: =D11+D36+D34+D35 -> 442228.21 | E10: =E11+E36+E34+E35 -> 502803.02 | F10: =F11+F36+F34+F35+1 -> 447988.42 | G10: =G11+G36+G34+G35 -> 588953.16 | H10: =H11+H36+H34+H35 -> 479736.79 | I10: =H10/D10*100 -> 108.48172 | J10: =H10/F10*100 -> 107.08687
A11: I | B11: Thu NSNN trên địa bàn | C11: =C12+C15+C20+C21+C22+C25+C26+C32+C33 -> 65399 | D11: =D12+D15+D20+D21+D22+D25+D26+D32+D33 -> 26158.6 | E11: =E12+E15+E20+E21+E22+E25+E26+E32+E33 -> 86733.411 | F11: =F12+F15+F20+F21+F22+F25+F26+F32+F33 -> 31917.811 | G11: =G12+G15+G20+G21+G22+G25+G26+G32+G33 -> 164267.25 | H11: =H12+H15+H20+H21+H22+H25+H26+H32+H33 -> 55050.882 | I11: =H11/D11*100 -> 210.45041 | J11: =H11/F11*100 -> 172.477
A12: 1.1 | B12: Thu tại xã. Trong đó: | C12: =C13+C14 -> 85 | D12: =D13+D14 -> 85 | E12: =E13+E14 -> 808.016 | F12: =F13+F14 -> 808.016 | G12: =G13+G14 -> 1037.7749 | H12: =H13+H14 -> 1025.8642 | I12: =H12/D12*100 -> 1206.8991 | J12: =H12/F12*100 -> 126.96088
B13: Thu tại xã | C13: 61 | D13: 61 | E13: 743.216 | F13: 743.216 | G13: 1018.5749 | H13: 1006.6642 | I13: =H13/D13*100 -> 1650.2692 | J13: =H13/F13*100 -> 135.44706
B14: Thu hoa lợi | C14: 24 | D14: 24 | E14: 64.8 | F14: 64.8 | G14: 19.2 | H14: 19.2 | I14: =H14/D14*100 -> 80 | J14: =H14/F14*100 -> 29.62963
A15: 2 | B15: Thu phí, lệ phí. Trong đó: | C15: =C16+C19 -> 383 | D15: =D16+D19 -> 163 | E15: =E16+E19 -> 544.395 | F15: =F16+F19 -> 324.395 | G15: =G16+G19 -> 403.1783 | H15: =H16+H19 -> 219.6783 | I15: =H15/D15*100 -> 134.77196 | J15: =H15/F15*100 -> 67.719385
A16: 2.1 | B16: Lệ phí môn bài | C16: =SUM(C17:C18) -> 332 | D16: =SUM(D17:D18) -> 112 | E16: =SUM(E17:E18) -> 462 | F16: =SUM(F17:F18) -> 242 | G16: =SUM(G17:G18) -> 323.55 | H16: =SUM(H17:H18) -> 140.05 | I16: =H16/D16*100 -> 125.04464 | J16: =H16/F16*100 -> 57.871901
B17: Doanh nghiệp, hợp tác xã | C17: 220 | D17: 0 | E17: 220 | F17: 0 | G17: 183.5 | H17: 0
B18: Cá nhân, hộ kinh doanh | C18: 112 | D18: 112 | E18: 242 | F18: 242 | G18: 140.05 | H18: 140.05 | I18: =H18/D18*100 -> 125.04464 | J18: =H18/F18*100 -> 57.871901
A19: 2.2 | B19: Phí, lệ phí (còn lại) | C19: 51 | D19: 51 | E19: 82.395 | F19: 82.395 | G19: 79.628299 | H19: 79.628299 | I19: =H19/D19*100 -> 156.13392 | J19: =H19/F19*100 -> 96.642149
A20: 3 | B20: Tiền sử dụng đất | C20: 38820 | D20: 21834 | E20: 56344 | F20: =E20*45% -> 25354.8 | G20: 102315.54 | H20: 46041.992 | I20: =H20/D20*100 -> 210.87291 | J20: =H20/F20*100 -> 181.59083
A21: 4 | B21: Tiền thuê mặt đất, mặt nước | C21: 1047 | D21: 14.1 | E21: 1552 | F21: 165.6 | G21: 863.52432 | H21: 229.11339 | I21: =H21/D21*100 -> 1624.9177 | J21: =H21/F21*100 -> 138.3535
A22: 5 | B22: Lệ phí trước bạ | C22: =SUM(C23:C24) -> 8025 | D22: =SUM(D23:D24) -> 436 | E22: =SUM(E23:E24) -> 8545 | F22: =SUM(F23:F24) -> 852 | G22: =SUM(G23:G24) -> 13181.91 | H22: =SUM(H23:H24) -> 1182.5885 | I22: =H22/D22*100 -> 271.2359 | J22: =H22/F22*100 -> 138.80147
B23: Trước bạ nhà, đất | C23: 545 | D23: 436 | E23: 1065 | F23: 852 | G23: 1478.2356 | H23: 1182.5885 | I23: =H23/D23*100 -> 271.2359 | J23: =H23/F23*100 -> 138.80147
B24: Trước bạ các tài sản khác | C24: 7480 | D24: 0 | E24: 7480 | F24: 0 | G24: 11703.674 | H24: 0
A25: 6 | B25: Thuế phi nông nghiệp | C25: 208 | D25: 208 | E25: 490 | F25: 490 | G25: 418.29874 | H25: 418.29874 | I25: =H25/D25*100 -> 201.10516 | J25: =H25/F25*100 -> 85.367089
A26: 7 | B26: Thu từ khu vực ngoài quốc doanh | C26: =C27+C30+C31 -> 14531 | D26: =D27+D30+D31 -> 3418.5 | E26: =E27+E30+E31 -> 16150 | F26: =F27+F30+F31 -> 3923 | G26: =G27+G30+G31 -> 36408.428 | H26: =H27+H30+H31 -> 5903.3464 | I26: =H26/D26*100 -> 172.68821 | J26: =H26/F26*100 -> 150.48041
A27: 7.1 | B27: Thuế VAT - TNDN | C27: =SUM(C28:C29) -> 14490 | D27: =SUM(D28:D29) -> 3398 | E27: =SUM(E28:E29) -> 16090 | F27: =SUM(F28:F29) -> 3893 | G27: =SUM(G28:G29) -> 36146.349 | H27: =SUM(H28:H29) -> 5824.8926 | I27: =H27/D27*100 -> 171.42121 | J27: =H27/F27*100 -> 149.62478
B28: Doanh nghiệp, hợp tác xã | C28: 13490 | D28: 2698 | E28: 14740 | F28: 2948 | G28: =34144-30.43 -> 34113.57 | H28: =4462-28.65 -> 4433.35 | I28: =H28/D28*100 -> 164.31987 | J28: =H28/F28*100 -> 150.38501
B29: Hộ cá thể | C29: 1000 | D29: 700 | E29: 1350 | F29: 945 | G29: 2032.7794 | H29: 1391.5426 | I29: =H29/D29*100 -> 198.7918 | J29: =H29/F29*100 -> 147.25319
A30: 7.2 | B30: Thuế tiêu thụ đặc biệt | C30: 41 | D30: 20.5 | E30: 60 | F30: 30 | G30: 86.793559 | H30: 43.396784 | I30: =H30/D30*100 -> 211.69163 | J30: =H30/F30*100 -> 144.65595
A31: 7.3 | B31: Thuế Tài nguyên | C31: 0 | D31: 0 | E31: 0 | F31: 0 | G31: 175.2849 | H31: 35.056983
A32: 8 | B32: Thuế thu nhập cá nhân | C32: 2300 | D32: 0 | E32: 2300 | F32: 0 | G32: 9608.595 | H32: 0
A33: 9 | B33: Thu đóng góp CSHT | C33: 0 | D33: 0 | E33: 0 | F33: 0 | G33: 30 | H33: 30
A34: II | B34: Thu chuyển nguồn năm trước | C34: 2900 | D34: 2900 | E34: 2900 | F34: 2900 | G34: 2899.944 | H34: 2899.944 | I34: =H34/D34*100 -> 99.998069 | J34: =H34/F34*100 -> 99.998069
A35: III | B35: Thu kết dư ngân sách | C35: 904 | D35: 904 | E35: 904 | F35: 904 | G35: 897.32104 | H35: 897.32104 | I35: =H35/D35*100 -> 99.261177 | J35: =H35/F35*100 -> 99.261177
A36: IV | B36: Thu bổ sung từ NS cấp trên | C36: =SUM(C37:C39) -> 412265.61 | D36: =SUM(D37:D39) -> 412265.61 | E36: =SUM(E37:E39) -> 412265.61 | F36: =SUM(F37:F39) -> 412265.61 | G36: =SUM(G37:G39)-1 -> 420888.65 | H36: =SUM(H37:H39)-1 -> 420888.65 | I36: =H36/D36*100 -> 102.09162 | J36: =H36/F36*100 -> 102.09162
A37: 1 | B37: Thu bổ sung cân đối | C37: 27715 | D37: =C37 -> 27715 | E37: 27715 | F37: =E37 -> 27715 | G37: 27715.312 | H37: =G37 -> 27715.312 | I37: =H37/D37*100 -> 100.00113 | J37: =H37/F37*100 -> 100.00113
A38: 2 | B38: Thu bổ sung các nhiệm vụ chuyển từ cấp huyện xuống cấp xã | C38: 327058 | D38: =C38 -> 327058 | E38: 327058 | F38: =E38 -> 327058 | G38: 327058 | H38: =G38 -> 327058 | I38: =H38/D38*100 -> 100 | J38: =H38/F38*100 -> 100
A39: 3 | B39: Thu bổ sung có mục tiêu cấp xã | C39: 57492.613 | D39: =C39 -> 57492.613 | E39: 57492.613 | F39: =E39 -> 57492.613 | G39: 66116.334 | H39: =G39 -> 66116.334 | I39: =H39/D39*100 -> 114.9997 | J39: =H39/F39*100 -> 114.9997
H41: ỦY BAN NHÂN DÂN XÃ

Sheet THỰC HIỆN CHI 2025
A1: ỦY BAN NHÂN DÂN
A2: XÃ THẠCH HÀ
A4: PHỤ LỤC 03: QUYẾT TOÁN CHI NSNN NĂM 2025
A5: (Kèm theo báo cáo số /BC-UBND ngày / /2026 của UBND xã)
D6: Đơn vị tính: Triệu đồng
A7: TT | B7: Nội dung | C7: Dự toán HĐND xã giao | D7: Thực hiện | E7: Trong đó | G7: Tỷ lệ (%)
E8: 6 tháng đầu năm | F8: 6 tháng cuối năm
B9: Tổng cộng | C9: =C10+C12+C92+C94+C102+C103+C104+C107+C110+C130+1 -> 447988.4 | D9: =D10+D12+D92+D94+D102+D103+D104+D107+D110+D130-1 -> 473093.98 | E9: =E10+E12+E92+E94+E102+E103+E104+E107+E110+E130 -> 314658.82 | F9: =F10+F12+F92+F94+F102+F103+F104+F107+F110+F130 -> 158435.16 | G9: =D9/C9*100 -> 105.60407
A10: I | B10: Chi đầu tư phát triển | C10: =C11 -> 25354.8 | D10: =D11 -> 10777.872 | E10: =E11 -> 10174.964 | F10: =F11 -> 602.908 | G10: =D10/C10*100 -> 42.508211
A11: 1 | B11: Chi đầu tư xây dựng cơ bản | C11: =25354.8 -> 25354.8 | D11: =E11+F11 -> 10777.872 | E11: 10174.964 | F11: 602.908 | G11: =D11/C11*100 -> 42.508211
A12: II | B12: Chi thường xuyên | C12: =C13+C18+C22+C24+C29+C37+C40+C42+C85+C91 -> 360133.02 | D12: =D13+D18+D22+D24+D29+D37+D40+D42+D85+D91+1 -> 365208.4 | E12: =E13+E18+E22+E24+E29+E37+E40+E42+E85+E91 -> 284080.1 | F12: =F13+F18+F22+F24+F29+F37+F40+F42+F85+F91 -> 81127.297 | G12: =D12/C12*100 -> 101.40931
A13: 1 | B13: Chi an ninh - Quốc phòng | C13: =C14+C15 -> 1546.181 | D13: =D14+D15 -> 1579.271 | E13: =E14+E15 -> 840.486 | F13: =F14+F15 -> 738.785 | G13: =D13/C13*100 -> 102.14011
A14: - | B14: An ninh | C14: 304 | D14: =E14+F14 -> 304.305 | E14: 133.305 | F14: =110+61 -> 171 | G14: =D14/C14*100 -> 100.10033
A15: - | B15: Quốc phòng | C15: =C16+C17 -> 1242.181 | D15: =D16+D17 -> 1274.966 | E15: =E16+E17 -> 707.181 | F15: =F16+F17 -> 567.785 | G15: =D15/C15*100 -> 102.63931
B16: Kinh phí thực hiện nhiệm vụ quốc phòng theo định mức | C16: =807.181 -> 807.181 | D16: =E16+F16 -> 839.966 | E16: 707.181 | F16: =C16-E16+32.785 -> 132.785 | G16: =D16/C16*100 -> 104.06167
B17: Bổ sung kinh phí thực hiện Luật dân quân tự vệ, Nghị định số 72/2020/NĐ-CP ngày 30/6/2020 của Chính phủ | C17: =435 -> 435 | D17: =E17+F17 -> 435 | E17: 0 | F17: =C17-E17 -> 435 | G17: =D17/C17*100 -> 100
A18: 2 | B18: Sự nghiệp GD-ĐT và trung tâm chính trị xã | C18: =+SUM(C19:C21) -> 96899.16 | D18: =+SUM(D19:D21) -> 96675.367 | E18: =+SUM(E19:E21) -> 47622.204 | F18: =+SUM(F19:F21) -> 49053.163 | G18: =D18/C18*100 -> 99.769045
A19: - | B19: Sự nghiệp giáo dục, đào tạo | C19: 94792 | D19: =E19+F19 -> 94568.207 | E19: 46496.084 | F19: 48072.123 | G19: =D19/C19*100 -> 99.763912
A20: - | B20: Trung tâm giáo dục cộng đồng | C20: 56.16 | D20: =E20+F20 -> 56.16 | E20: 42.12 | F20: =C20-E20 -> 14.04 | G20: =D20/C20*100 -> 100
A21: - | B21: Trung tâm chính trị xã | C21: 2051 | D21: =E21+F21 -> 2051 | E21: 1084 | F21: =C21-E21 -> 967 | G21: =D21/C21*100 -> 100
A22: 3 | B22: Chi sự nghiệp y tế | C22: =C23 -> 1002 | D22: =D23 -> 995.6116 | E22: =E23 -> 0 | F22: =F23 -> 995.6116 | G22: =D22/C22*100 -> 99.362435
B23: Bảo hiểm y tế 6 tháng cuối năm 2025 đối tượng BTXH | C23: 1002 | D23: =E23+F23 -> 995.6116 | E23: 0 | F23: 995.6116 | G23: =D23/C23*100 -> 99.362435
A24: 4 | B24: Sự nghiệp Văn hóa thông tin, phát thanh truyền hình, thể dục thể thao | C24: =SUM(C25:C28) -> 534.2 | D24: =SUM(D25:D28) -> 563.95906 | E24: =SUM(E25:E28) -> 240.1 | F24: =SUM(F25:F28) -> 323.85906 | G24: =D24/C24*100 -> 105.57077
A25: - | B25: Phân bổ theo định mức | C25: 240 | D25: =E25+F25 -> 233.3104 | E25: 199 | F25: 34.3104 | G25: =D25/C25*100 -> 97.212667
A26: - | B26: Đại hội TDTT | C26: 120 | D26: =E26+F26 -> 156.44866 | E26: 0 | F26: 156.44866 | G26: =D26/C26*100 -> 130.37389
A27: - | B27: Kinh phí cụm dân cư | C27: 155 | D27: =E27+F27 -> 155 | E27: 37.5 | F27: 117.5 | G27: =D27/C27*100 -> 100
A28: - | B28: Kinh phí bảo vệ di tích | C28: 19.2 | D28: =E28+F28 -> 19.2 | E28: 3.6 | F28: 15.6 | G28: =D28/C28*100 -> 100
A29: 5 | B29: Chi đảm bảo xã hội | C29: =SUM(C30:C36) -> 8390.9948 | D29: =SUM(D30:D36) -> 5985.7682 | E29: =SUM(E30:E36) -> 636.1224 | F29: =SUM(F30:F36) -> 5349.6458 | G29: =D29/C29*100 -> 71.33562
A30: - | B30: Chế độ trợ cấp hằng tháng cán bộ xã, thị trấn đã nghỉ việc | C30: 778.7448 | D30: =E30+F30 -> 808.6241 | E30: 389.3724 | F30: 419.2517 | G30: =D30/C30*100 -> 103.83685
A31: - | B31: Hỗ trợ người được phân công giúp đỡ | C31: 6.75 | D31: =E31+F31 -> 2.25 | E31: 2.25 | F31: 0 | G31: =D31/C31*100 -> 33.333333
A32: - | B32: Kinh phí chúc thọ mừng thọ | C32: 181.5 | D32: =E32+F32 -> 181.5 | E32: 181.5 | F32: =C32-E32 -> 0 | G32: =D32/C32*100 -> 100
A33: - | B33: Chi khác đảm bảo xã hội | C33: 235 | D33: =E33+F33 -> 63 | E33: 63 | F33: 0 | G33: =D33/C33*100 -> 26.808511
A34: - | B34: Mai táng phí | C34: 181 | D34: =E34+F34 -> 163.8 | F34: 163.8 | G34: =D34/C34*100 -> 90.497238
A35: - | B35: Trợ giúp xã hội các tối tượng 6 tháng cuối năm | C35: 6925 | D35: =E35+F35 -> 4700 | F35: =2300+2400 -> 4700 | G35: =D35/C35*100 -> 67.870036
A36: - | B36: Tiền điện hộ nghèo 6 tháng cuối năm | C36: 83 | D36: =E36+F36 -> 66.59408 | E36: 0 | F36: 66.59408 | G36: =D36/C36*100 -> 80.233831
A37: 6 | B37: Sự nghiệp kinh tế | C37: =+SUM(C38:C39) -> 837 | D37: =+SUM(D38:D39) -> 810.648 | E37: =+SUM(E38:E39) -> 650 | F37: =+SUM(F38:F39) -> 160.648 | G37: =D37/C37*100 -> 96.851613
A38: - | B38: Chi sự nghiệp kinh tế | C38: 437 | D38: =E38+F38 -> 410.648 | E38: 250 | F38: 160.648 | G38: =D38/C38*100 -> 93.969794
A39: - | B39: Kiến thiết thị chính | C39: 400 | D39: =E39+F39 -> 400 | E39: 400 | F39: =C39-E39 -> 0 | G39: =D39/C39*100 -> 100
A40: 7 | B40: Sự nghiệp môi trường | C40: =C41 -> 958.68 | D40: =D41 -> 730.17042 | E40: =E41 -> 660.37042 | F40: =F41 -> 69.8 | G40: =D40/C40*100 -> 76.164144
A41: - | B41: Chi sự nghiệp môi trường | C41: 958.68 | D41: =E41+F41 -> 730.17042 | E41: 660.37042 | F41: 69.8 | G41: =D41/C41*100 -> 76.164144
...

Sheet Cân đối
A1: ỦY BAN NHÂN DÂN
A2: XÃ THẠCH HÀ
A4: PHỤ LỤC 01: CÂN ĐỐI QUYẾT TOÁN NGÂN SÁCH XÃ 2025
A5: (Kèm theo báo cáo số /BC-UBND ngày / / của UBND xã)
C6: Đơn vị: Triệu đồng
A7: Nội dung thu | B7: Quyết toán | C7: Nội dung chi | D7: Quyết toán
A8: Tổng số thu | B8: ='THỰC HIỆN THU 2025'!H10 -> 479736.79 | C8: Tổng số chi | D8: ='THỰC HIỆN CHI 2025'!D9 -> 473093.98
A9: I. Các khoản thu xã hưởng 100% | B9: ='THỰC HIỆN THU 2025'!H12+'THỰC HIỆN THU 2025'!H15+'THỰC HIỆN THU 2025'!H25 -> 1663.8412 | C9: I. Chi đầu tư phát triển | D9: ='THỰC HIỆN CHI 2025'!D10 -> 10777.872
A10: II. Các khoản thu phân chia theo tỷ lệ | B10: 53387.04 | C10: II. Chi thường xuyên | D10: =D8-D9-D11 -> 420391.7
A11: III. Thu bổ sung | B11: =B12+B13-1 -> 420888.65 | C11: III. Chi chuyển nguồn ngân sách xã sang năm sau | D11: ='THỰC HIỆN CHI 2025'!D130 -> 41924.401
A12: Bổ sung cân đối ngân sách | B12: ='THỰC HIỆN THU 2025'!H37+'THỰC HIỆN THU 2025'!H38 -> 354773.31 | C12: IV. Chi nộp trả ngân sách cấp trên
A13: Bổ sung có mục tiêu | B13: ='THỰC HIỆN THU 2025'!H39 -> 66116.334
A14: IV. Thu kết dư ngân sách năm trước | B14: ='THỰC HIỆN THU 2025'!H35 -> 897.32104
A15: V. Thu chuyển nguồn từ năm trước sang ngân sách năm nay | B15: ='THỰC HIỆN THU 2025'!H34 -> 2899.944
A16: Kết dư ngân sách | B16: =B8-D8 -> 6642.8165
C18: ỦY BAN NHÂN DÂN XÃ

Sheet Nguồn mục tiêu
A1: ỦY BAN NHÂN DÂN
A2: XÃ THẠCH HÀ
A4: PHỤ LỤC 04: QUYẾT TOÁN CHI BỔ SUNG MỤC TIÊU, CHUYỂN NGUỒN, KẾT DƯ NGÂN SÁCH ĐỊA PHƯƠNG NĂM 2025
A5: (Kèm theo báo cáo số /BC-UBND ngày / /2026 của UBND xã)
D7: ĐTV: Triệu đồng
A8: STT | B8: Nội dung | C8: Bổ sung ngân sách cấp trên | D8: 6 tháng đầu năm | E8: 6 tháng cuối năm | F8: Còn lại
A9: I | B9: Bổ sung có mục tiêu từ ngân sách cấp trên | C9: =SUM(C10:C44) -> 29130.699 | D9: =SUM(D10:D44) -> 18889.791 | E9: =SUM(E10:E44) -> 5884.4176 | F9: =SUM(F10:F44) -> 4356.49
A10: 1 | B10: Kinh phí tặng quà thắp hương dịp tết nguyên đán 2025 | C10: 134.1 | D10: 134.1 | F10: =C10-D10-E10 -> 0
A11: 2 | B11: Kinh phí tặng quà đối tượng còn sống năm 2025 | C11: 26.7 | D11: 26.7 | F11: =C11-D11-E11 -> 0
A12: 3 | B12: Khen thưởng xã đạt chuẩn nông thôn mới nâng cao, nông thôn mới kiểu mẫu năm 2024 | C12: 1500 | D12: 1500 | F12: =C12-D12-E12 -> 0
A13: 4 | B13: Cấp kinh phí chi trả mai táng phí | C13: 304.2 | D13: 304.2 | F13: =C13-D13-E13 -> 0
A14: 5 | B14: Hỗ trợ sử dụng sản phẩm, dịch vụ công ích thủy lợi năm 2025 cho các xã, thị trấn | C14: 1440 | D14: 828.80897 | E14: =505.726618+17 -> 522.72662 | F14: =C14-D14-E14 -> 88.464415
A15: 6 | B15: Chương trình MTQG Nông thôn mới: Vốn ĐTPT NTM năm 2025 | C15: 411.42 | D15: 411.42 | F15: =C15-D15-E15 -> 0
A16: 7 | B16: Chương trình MTQG Nông thôn mới: Vốn sự nghiệp NTM năm 2025 | C16: 276 | D16: 276 | F16: =C16-D16-E16 -> 0
A17: 8 | B17: Hỗ trợ hoạt động bảo vệ môi trường năm 2024 | C17: 60 | D17: 60 | F17: =C17-D17-E17 -> 0
A18: 9 | B18: Kinh phí thực hiện chính sách hỗ trợ bảo vệ và phát triển đất trồng lúa năm 2025 | C18: 1362.845 | D18: 805.553 | E18: =C18-D18 -> 557.292
A19: 10 | B19: Kinh phí bảo dưỡng thường xuyên các tuyến đường cấp xã quản lý năm 2025 | C19: 76.3 | D19: 76.3 | F19: =C19-D19-E19 -> 0
A20: 11 | B20: Kinh phí hỗ trợ xây mới, sửa chữa nhà ở hộ nghèo, hộ cận nghèo theo Chương trình xóa nhà tạm, nhà dột nát | C20: 1570 | D20: 1570 | F20: =C20-D20-E20 -> 0
A21: 12 | B21: Kinh phí hỗ trợ xã thực hiện nhiệm vụ | C21: 1000 | D21: 1000 | F21: =C21-D21-E21 -> 0
A22: 13 | B22: Kinh phí hỗ trợ các Trung tâm học tập cộng đồng | C22: 42.12 | D22: 42.12 | F22: =C22-D22-E22 -> 0
A23: 14 | B23: Về việc hỗ trợ tổ chức lễ đón nhận bằng xếp hạng di tích lịch sữ – văn hoá cấp Quốc gia | C23: 30 | D23: 30 | F23: =C23-D23-E23 -> 0
A24: 15 | B24: Hỗ trợ kinh phí lấy ý kiến cử tri về sắp xếp đơn vị hành chính cấp xã năm 2025 | C24: 345 | D24: 345 | F24: =C24-D24-E24 -> 0
A25: 16 | B25: Về việc cấp kinh phí hỗ trợ kinh phí công trình Xây dựng nhà hành chính, các công trình phụ trợ Trường Mầm non Thạch Hà | C25: 650 | D25: 650 | F25: =C25-D25-E25 -> 0
A26: 17 | B26: Về việc phê duyệt kết quả và cấp kinh phí thực hiện chính sách khuyến khích phát triển nông nghiệp, nông thôn năm 2025 theo Nghị quyết số 51/2021/NQ-HĐND ngày 16/12/2021 của HĐND tỉnh (Đợt 1) | C26: 101.199 | D26: 101.199 | F26: =C26-D26-E26 -> 0
A27: 18 | B27: Chi trả kinh phí quản lý, vận hành cống ngăn mặn giữ ngọt Voọc Sim 1 và Voọc Sim 2 xã Thạch Long. | C27: 25 | D27: 25 | F27: =C27-D27-E27 -> 0
A28: 19 | B28: Kinh phí kiến thiết thị chính | C28: 6457 | D28: 3175.5754 | E28: =1828.573945+80+1116.413 -> 3024.9869 | F28: =C28-D28-E28 -> 256.43763
B29: Công an (Lắp đặt Camera)
B30: Văn phòng UBND&HĐND
A31: 20 | B31: Hỗ trợ UBND xã Thạch Sơn thực hiện các nội dung | C31: 500 | D31: 500 | F31: =C31-D31-E31 -> 0
A32: 21 | B32: Kinh phí hỗ trợ hướng dẫn, tư vấn, hỗ trợ sử dụng phần mềm | C32: 12 | D32: 12 | F32: =C32-D32-E32 -> 0
A33: 22 | B33: Kinh phí hỗ trợ xã từ nguồn kinh phí tăng thu, tiết kiệm chi năm 2025 | C33: 900 | D33: 900 | F33: =C33-D33-E33 -> 0
A34: 23 | B34: Nguồn sự nghiệp kinh tế, sự nghiệp giáo dục | C34: 4650 | D34: =125*3 -> 375 | E34: 263.412 | F34: =C34-D34-E34 -> 4011.588
A35: 24 | B35: Hỗ trợ xã đạt tiêu chí đô thị văn minh năm 2024 | C35: 1000 | D35: 1000 | F35: =C35-D35-E35 -> 0
A36: 25 | B36: Hỗ trợ xã về đích NTM nâng cao năm 2024 | C36: 1000 | D36: 1000 | F36: =C36-D36-E36 -> 0
A37: 26 | B37: Nguồn vốn chương trình mục tiêu quốc gia giảm nghèo bền vững năm 2025 | C37: 478 | D37: 0 | E37: 478 | F37: =C37-D37-E37 -> 0
A38: 27 | B38: Kinh phí hỗ trợ xã | C38: 2000 | D38: 2000 | F38: =C38-D38-E38 -> 0
A39: 28 | B39: Kinh phí hỗ trợ tiền quà ngày 27/7 | C39: 156.9 | D39: 156.9 | F39: =C39-D39-E39 -> 0
A40: 29 | B40: Kinh phí hỗ trợ xã | C40: 1300 | D40: 1300 | F40: =C40-D40-E40 -> 0
A41: 30 | B41: Hỗ trợ các xã theo cơ chế phục hồi, nâng cấp mặt đường bê tông xi măng năm 2024 | C41: 275.915 | D41: 275.915 | F41: =C41-D41-E41 -> 0
A42: 31 | B42: Kinh phí đảm bảo an ninh trật tự thi tuyển sinh vào lớp 10 | C42: 8 | D42: 8 | F42: =C42-D42-E42 -> 0
...

Sheet Công trình
A1: ỦY BAN NHÂN DÂN
A2: XÃ THẠCH HÀ
A4: PHỤ LỤC 05: QUYẾT TOÁN KINH PHÍ ĐẦU TƯ CÔNG NĂM 2025
A5: (Kèm theo báo cáo số /BC-UBND ngày / / 2026 của UBND xã)
O7: ĐVT: Triệu đồng
A9: STT | B9: Tên công trình | C9: Tổng mức đầu tư | D9: Tổng nguồn vốn bố trí năm 2025 | E9: Trong đó: | G9: Tổng mức đầu tư tăng (-); giảm (-) | H9: Điều chỉnh tăng | J9: Điều chỉnh giảm NS xã | K9: Tổng mức đầu tư | L9: Tổng vốn bố trí | M9: Trong đó: | O9: Thực hiện | P9: Trong đó:
E10: Ngân sách xã | F10: Nguồn khác | H10: NS tỉnh | I10: NS xã | M10: Ngân sách xã | N10: Nguồn khác | P10: Ngân sách xã | Q10: Nguồn khác
B12: TỔNG CỘNG | C12: =C13+C29+C34 -> 42124 | D12: =D13+D29+D34 -> 21919 | E12: =E13+E29+E34 -> 16919 | F12: =F13+F29+F34 -> 5000 | G12: =G13+G29+G34+G39 -> 29886 | H12: =H13+H29+H34+H39 -> 4300 | I12: =I13+I29+I34+I39 -> 4380 | J12: =J13+J29+J34+J39 -> 2919 | K12: =K13+K29+K34+K39 -> 72010 | L12: =L13+L29+L34+L39 -> 27680 | M12: =M13+M29+M34+M39 -> 18380 | N12: =N13+N29+N34+N39 -> 9300 | ... Q12: =Q13+Q29+Q34+Q39 -> 263.412
A13: I | B13: Lĩnh vực giáo dục | C13: =SUM(C14:C28) -> 16050 | D13: =SUM(D14:D28) -> 14550 | E13: =SUM(E14:E28) -> 9550 | F13: =SUM(F14:F28) -> 5000 | G13: =SUM(G14:G28) -> 8600 | H13: =SUM(H14:H28) -> 4300 | I13: =SUM(I14:I28) -> 0 | J13: =SUM(J14:J28) -> 800 | ... Q13: =SUM(Q14:Q28) -> 263.412
A14: 1 | B14: Sửa chữa mái nhà học 2 tầng 9 phòng trường Tiểu học Thạch Sơn khắc phục bão số 5 | C14: 550 | D14: 550 | E14: =D14 -> 550 | K14: =C14+G14 -> 550 | L14: =E14+F14+H14-J14 -> 550 | M14: =L14 -> 550 | O14: 30.677 | Q14: =O14 -> 30.677
A15: 2 | B15: Sửa chữa mái nhà học 2 tầng 6 phòng và nhà để xe trường Tiểu học 1 thị trấn khắc phục bão số 5 | C15: 500 | D15: 500 | E15: =D15 -> 500 | K15: =C15+G15 -> 500 | L15: =E15+F15+H15-J15 -> 500 | M15: =L15 -> 500 | O15: 26.843 | Q15: =O15 -> 26.843
A16: 3 | B16: Sửa chữa các hạng mục nhà xe, hàng rào, mương thoát nước trường THCS Phan Huy Chú khắc phục bão số 5 | C16: 800 | D16: 800 | E16: =D16 -> 800 | K16: =C16+G16 -> 800 | L16: =E16+F16+H16-J16 -> 800 | M16: =L16 -> 800 | O16: 44.928 | Q16: =O16 -> 44.928
A17: 4 | B17: Sửa chữa, nâng cấp phòng học và sân chơi tại điểm trường số 2 Trường Mầm non 1 thị trấn Thạch Hà | C17: 1000 | D17: 1000 | E17: 1000 | K17: =C17+G17 -> 1000 | L17: =E17+F17+H17-J17 -> 1000 | M17: =L17 -> 1000 | O17: 57.52 | Q17: =O17 -> 57.52
A18: 5 | B18: Sửa chữa, nâng cấp cổng, hàng rào và mái che Trường Mầm non 2 thị trấn Thạch Hà | C18: 1000 | D18: 1000 | E18: 1000 | K18: =C18+G18 -> 1000 | L18: =E18+F18+H18-J18 -> 1000 | M18: =L18 -> 1000 | O18: 50.017 | Q18: =O18 -> 50.017
A19: 6 | B19: Sửa chữa, nâng cấp hệ thống điện và các hạng mục phụ trợ Trường Mầm non Thạch Long | C19: 1000 | D19: 500 | E19: 500 | K19: =C19+G19 -> 1000 | L19: =E19+F19+H19-J19 -> 500 | M19: =L19 -> 500
A20: 7 | B20: Sửa chữa, nâng cấp nhà hành chính và các hạng mục phụ trợ Trường Mần non Thạch Sơn | C20: 500 | D20: 500 | E20: 500 | K20: =C20+G20 -> 500 | L20: =E20+F20+H20-J20 -> 500 | M20: =L20 -> 500
A21: 8 | B21: Xây dựng mương thoát nước tại cơ sở 1 Trường Tiểu học 1 thị trấn Thạch Hà | C21: 500 | D21: 500 | E21: 500 | K21: =C21+G21 -> 500 | L21: =E21+F21+H21-J21 -> 500 | M21: =L21 -> 500
A22: 9 | B22: Xây dựng mương thoát nước và công trình vệ sinh giáo viên Trường tiểu học 2 thị trấn Thạch Hà | C22: 700 | D22: 700 | E22: =700 -> 700 | K22: =C22+G22 -> 700 | L22: =E22+F22+H22-J22 -> 700 | M22: =L22 -> 700
A23: 10 | B23: Xây dựng tường rào và các hạng mục phụ trợ Trường Tiểu học Thạch Sơn | C23: 1000 | D23: 1000 | E23: 1000 | K23: =C23+G23 -> 1000 | L23: =E23+F23+H23-J23 -> 1000 | M23: =L23 -> 1000 | O23: 53.427 | Q23: =O23 -> 53.427
A24: 11 | B24: Xây dựng tường rào và các hạng mục phụ trợ Trường Tiểu học Thạch Long | C24: 1500 | D24: 1000 | E24: 1000 | K24: =C24+G24 -> 1500 | L24: =E24+F24+H24-J24 -> 1000 | M24: =L24 -> 1000
A25: 12 | B25: Xây dựng Nhà thư viện và các công trình phụ trợ cho Trường THCS Phan Huy Chú | C25: 5800 | D25: 5800 | E25: 800 | F25: 5000 | J25: 800 | K25: =C25+G25 -> 5800 | L25: =E25+F25+H25-J25 -> 5000 | N25: =F25 -> 5000
A26: 13 | B26: Xây dựng sân bóng Trường THCS Long Sơn | C26: 1200 | D26: 700 | E26: 700 | K26: =C26+G26 -> 1200 | L26: =E26+F26+H26-J26 -> 700 | M26: =L26 -> 700 | O26: 73.988 | P26: =O26 -> 73.988
A27: 14 | B27: Cải tạo, sửa chữa nhà học, nhà bộ môn, nhà hiệu bộ và các hạng mục phụ trợ Trường THCS Phan Huy Chú | G27: 4600 | H27: 2300 | K27: =C27+G27 -> 4600 | L27: =E27+F27+H27-J27 -> 2300 | N27: =H27 -> 2300
A28: 15 | B28: Cải tạo, sửa chữa nhà học 02 tầng 08 phòng và các hạng mục phụ trợ Trường Tiểu học Thạch Long | G28: 4000 | H28: 2000 | K28: =C28+G28 -> 4000 | L28: =E28+F28+H28-J28 -> 2000 | N28: =L28 -> 2000
A29: II | B29: Lĩnh vực giao thông | C29: =SUM(C30:C33) -> 18124 | D29: =SUM(D30:D33) -> 2519 | E29: =SUM(E30:E33) -> 2519 | F29: =SUM(F30:F33) -> 0 | G29: =SUM(G30:G33) -> 3776 | H29: =SUM(H30:H33) -> 0 | I29: =SUM(I30:I33) -> 0 | J29: =SUM(J30:J33) -> 2119 | ... Q29: =SUM(Q30:Q33) -> 0
A30: 16 | B30: Đường giao thông nông thôn, nội đồng xã Thạch Hà (Theo Nghị quyết 44/HĐND tỉnh) | C30: 761 | D30: 200 | E30: 200 | G30: -761 | J30: 200 | K30: =C30+G30 -> 0 | L30: =E30+F30+H30-J30 -> 0
A31: 17 | B31: Phục hồi đường bê tông GTNT xã Thạch Hà (Theo Nghị quyết 44/HĐND tỉnh) | C31: 1863 | D31: =500-181 -> 319 | E31: 319 | G31: -1863 | J31: 319 | K31: =C31+G31 -> 0 | L31: =E31+F31+H31-J31 -> 0
A32: 18 | B32: Xây dựng đường giao thông khu dân cư thôn Gia Ngãi 1 | C32: =4500+3000 -> 7500 | D32: 1000 | E32: 1000 | G32: 6400 | J32: 800 | K32: =C32+G32 -> 13900 | L32: =E32+F32+H32-J32 -> 200 | M32: =L32 -> 200
A33: 19 | B33: Xây dụng đường giao thông khu dân cư Tổ dân phố 12 | C33: =5000+3000 -> 8000 | D33: 1000 | E33: 1000 | J33: 800 | K33: =C33+G33 -> 8000 | L33: =E33+F33+H33-J33 -> 200 | M33: =L33 -> 200
A34: III | B34: Lĩnh vực Nông nghiệp - Thủy lợi | C34: =SUM(C35:C38) -> 7950 | D34: =SUM(D35:D38) -> 4850 | E34: =SUM(E35:E38) -> 4850 | F34: =SUM(F35:F38) -> 0 | H34: =SUM(H35:H38) -> 0 | J34: =SUM(J35:J38) -> 0 | K34: =SUM(K35:K38) -> 7950 | L34: =SUM(L35:L38) -> 4850 | M34: =SUM(M35:M38) -> 4850 | N34: =SUM(N35:N38) -> 0 | O34: =SUM(O35:O38) -> 528.92 | P34: =SUM(P35:P38) -> 528.92 | Q34: =SUM(Q35:Q38) -> 0
A35: 20 | B35: Xây dựng tuyến kênh tưới kết hợp đường giao thông nội đồng thôn Đình Hàn, xã Thạch Hà | C35: 1500 | D35: 1000 | E35: 1000 | K35: =C35+G35 -> 1500 | L35: =E35+F35+H35-J35 -> 1000 | M35: =L35 -> 1000 | O35: 95.634 | P35: =O35 -> 95.634
A36: 21 | B36: Xây dựng tuyến kênh phục vụ tưới, tiêu tổ dân phố 13, xã Thạch Hà | C36: 2600 | D36: 1500 | E36: 1500 | K36: =C36+G36 -> 2600 | L36: =E36+F36+H36-J36 -> 1500 | M36: =L36 -> 1500 | O36: 140.226 | P36: =O36 -> 140.226
A37: 22 | B37: Sửa chữa hệ thống trạm bơm trên địa bàn xã Thạch Hà | C37: 850 | D37: 850 | E37: 850 | K37: =C37+G37 -> 850 | L37: =E37+F37+H37-J37 -> 850 | M37: =L37 -> 850
A38: 23 | B38: Xây dựng kênh tưới phục vụ sản xuất thôn Tri Khê, xã Thạch Hà | C38: 3000 | D38: 1500 | E38: 1500 | K38: =C38+G38 -> 3000 | L38: =E38+F38+H38-J38 -> 1500 | M38: =L38 -> 1500 | O38: 293.06 | P38: =O38 -> 293.06
A39: IV | B39: Lĩnh vực khác | C39: =SUM(C40:C48) -> 0 | D39: =SUM(D40:D48) -> 0 | E39: =SUM(E40:E48) -> 0 | F39: =SUM(F40:F48) -> 0 | G39: =SUM(G40:G48) -> 17510 | H39: =SUM(H40:H48) -> 0 | I39: =SUM(I40:I48) -> 4380 | J39: =SUM(J40:J48) -> 0 | ... Q39: =SUM(Q40:Q48) -> 0
A40: 24 | B40: Sửa chữa, nâng cấp trụ sở cơ quan Đảng ủy - HĐND - UBND - UBMTTQ Việt Nam xã Thạch Hà và các hạng mục phụ trợ | G40: 950 | I40: 600 | K40: =C40+G40 -> 950 | L40: =I40 -> 600 | M40: =L40 -> 600
A41: 25 | B41: Hệ thống nước sạch cụm dân cư số 1 thôn Nam Giang, xã Thạch Hà | G41: 300 | I41: 300 | K41: =C41+G41 -> 300 | L41: 300 | M41: =L41 -> 300
A42: 26 | B42: Xây dựng hệ thống điện chiếu sáng đường Lý Nhật Quang (đoạn từ Ngõ Anh Hải thôn 12 đến đường 1B và đoạn từ ngã tư Chợ Mương đến Cầu Là) hư hỏng do bão số 5 và số 10 | G42: 1840 | I42: 500 | K42: =C42+G42 -> 1840 | L42: =I42 -> 500 | M42: =I42 -> 500
A43: 27 | B43: Xây dựng hệ thống điện chiếu sáng đường TX03 từ Tỉnh lộ 20 đi QL 15B (Đan trung - Nam Giang) hư hỏng do bão số 5 và số 10 | G43: 1720 | I43: 840 | K43: =C43+G43 -> 1720 | L43: =I43 -> 840 | M43: =I43 -> 840
A44: 28 | B44: Xây dựng hệ tống điện chiếu sáng tuyến TT01 từ Thôn Đình Hàn - Tri Khê | G44: 1850 | I44: 500 | K44: =C44+G44 -> 1850 | L44: =I44 -> 500 | M44: =I44 -> 500
...

Sheet Nguồn mục tiêu chi chuyển nguôn
B2: KP Chương trình mục tiêu quốc gia giảm nghèo bền vững năm 2025 | C2: 363
B3: KP thực hiện cơ chế, chính sách hỗ trợ xây dựng nông thôn mới theo Nghị quyết số 44 | C3: 20

Sheet Sheet1
A1: 0 11 | B1: 0 41 | C1: 133 | D1: 161 | E1: 221 | F1: 261 | G1: 262 | H1: 281 | I1: 283 | J1: 292 | K1: 312 | L1: 341 | M1: 351 | N1: 361 | O1: 362 | P1: 371 | R1: 374 | S1: 398
A2: 64884000 | B2: 168480000 | C2: 995611602 | D2: 8170000 | E2: 7500000 | F2: 613902542 | G2: 20000000 | H2: 5063850 | I2: 647826881 | J2: 189000000 | K2: 791257366 | L2: 22230000 | M2: 4999400 | N2: 3159000 | O2: 1120000 | P2: 10000000 | Q2: 6751 | R2: 7581600 | S2: 28680000 | T2: 6149 | U2: Phụ cấp khác
A3: 32523200 | B3: 1002375 | D3: 3650000 | E3: 7000000 | F3: 112349534 | H3: 70480000 | I3: 1568440 | J3: 632154100 | K3: 1897290000 | L3: 49636000 | M3: 12400000 | N3: 24041000 | O3: 15880000 | P3: 5500000 | Q3: 6757 | R3: 1842500 | S3: 147200000 | T3: 7257 | U3: Trợ cấp mai táng
A4: 31993000 | B4: 495000 | D4: 44229400 | E4: 4700000 | F4: 35000000 | H4: 5000000 | I4: 47567000 | J4: 9000000 | K4: 48900000 | L4: 16146000 | M4: 59850000 | N4: 577919200 | O4: 2965000 | P4: 7000000 | Q4: 6799 | R4: 756000000 | S4: 240000000 | T4: 7454 | U4: Hỗ trợ cải thiện nhà ở
A5: 7000000 | B5: 4649995 | D5: 50000000 | E5: 1500000 | F5: 137133000 | H5: 40652400 | I5: 52760000 | J5: 282800000 | K5: 420800000 | L5: 14186500 | M5: 476187480 | N5: 30305000 | O5: 165000 | P5: 6648840 | Q5: 7001 | R5: 43200000 | S5: 4366800000 | T5: 7499 | U5: Chi khác
A6: 9800000 | B6: 15070000 | D6: 16690000 | E6: 26900000 | F6: 469789391 | H6: 66140000 | I6: 1980000 | K6: 58800000 | L6: 217406948 | M6: 30308000 | N6: 151460000 | O6: 5000000 | P6: 140400000 | Q6: 7152 | S6: 913430000 | T6: 7799 | U6: Chi các khoản khác
A7: 33010000 | B7: 5188000 | D7: 5690000 | E7: 24085400 | H7: 41134000 | I7: 73995700 | K7: 1440345 | L7: 14004900 | M7: 124228000 | N7: 5500000 | O7: 5775000 | P7: 120000000 | Q7: 7161 | S7: 38000000 | T7: 7257 | U7: Trợ cấp mai táng
A8: 4000000 | B8: 24900000 | D8: 540000 | E8: 84763262 | H8: 559106500 | I8: 45185000 | K8: 891441000 | L8: 11900000 | M8: 96690000 | N8: 66000000 | O8: 985000 | P8: 231000000 | Q8: 7162 | S8: 66594080 | T8: 7149 | U8: Tiền điện
A9: 7000000 | B9: 82000000 | D9: 34500000 | E9: =SUM(E2:E8) -> 156448662 | H9: 16628000 | I9: 52420000 | K9: 865264000 | L9: 93509700 | M9: 12250000 | N9: 113775900 | O9: 89242000 | P9: 222080694 | Q9: 7199 | S9: 1762250000 | T9: 7499 | U9: Chi khác
A10: 7315110 | D10: 718560 | H10: 332604000 | I10: 21520000 | K10: 428956661 | L10: 10000000 | M10: 26000000 | N10: 24224400 | O10: 392080000 | P10: 3369600 | Q10: 7251 | S10: 3075900000 | T10: 7499 | U10: Chi khác
A11: 584256000 | D11: 37500000 | H11: 112500000 | I11: 83363000 | L11: 45863000 | M11: 99200000 | N11: 11636000 | O11: 4200000 | P11: 163800000 | Q11: 7257 | S11: 532000000 | T11: 7499 | U11: Chi khác
A12: 36000000 | D12: 145900000 | H12: 10000000 | I12: 86303000 | L12: 4000000 | M12: 14517000 | N12: 412909700 | O12: 16730000 | P12: 379400000 | Q12: 7799
A13: 77512800 | D13: 15500000 | H13: 31199000 | L13: 39200000 | M13: 8707000 | N13: 1477008000 | O13: 21489870 | P13: 46800000 | Q13: 7152
A14: 23703192 | D14: 3600000 | H14: 36000000 | L14: 533136000 | M14: 101088000 | N14: 8772000 | O14: 68300000 | P14: 317600000 | Q14: 7199
A15: 17137224 | H15: 49000000 | L15: 36470000 | M15: 2655900000 | N15: 1595000 | O15: 19000000
A16: 2000000 | H16: 3500000 | L16: 100000 | M16: 25600000 | N16: 1980000 | O16: 795015000
A17: 7000000 | H17: 1500000 | L17: 259505295 | M17: 3600000 | N17: 29200000 | P17: =P11/23400000 -> 7
A18: 2050000 | H18: 8900000 | L18: 16000000 | M18: 25976000 | N18: 77965000
A19: 327150000 | H19: 8180000 | L19: 26400000 | M19: 12464100 | N19: 28800000
A20: 631800 | H20: 46900000 | L20: 13000000 | M20: 35700000 | N20: 13500000
H21: 4100000 | L21: 999123000 | M21: 136890000 | N21: 67003000
H22: 2100000 | L22: 10000000 | M22: 146786480 | N22: 21000000
H23: 311000000 | L23: 70000000 | M23: 35708000 | N23: 2713371000
H24: 18700000 | L24: 4317820294
H25: 820000 | L25: 66834963
H26: 3300000 | L26: 80479675
H27: 97000000 | L27: 79748500
H28: 18100000 | L28: 2808000
H29: 1330000 | L29: 652860000
H30: 570000 | L30: 8424000
L31: 6622200
L32: 1404000
L33: 17437680
L34: 1087610350
L35: 196804000
L36: 87832000
L37: 365043457
L38: 801723342
L39: 152955126
L40: 34843000
...

Sheet Đảng
A2: Tháng
A3: 45866 | B3: 1200000000 | C3: lương + hoạt động
A4: 45889 | B4: 818000000 | C4: lương + hoạt động
A5: 45930 | B5: 278878000 | C5: Lương
A6: 45932 | B6: 1958821313 | C6: Nghỉ việc | E6: 199720000 | F6: Nguồn 18
A7: 45937 | B7: 284420000 | C7: huy hiệu đảng | E7: 1958821313 | F7: Nguồn nghỉ việc
A8: 45960 | B8: 397342000 | C8: hoạt động | E8: 270000000 | F8: Cơ sở vật chất
A9: 45964 | B9: 181870000 | C9: huy hiệu đảng | E9: 881500000 | F9: ô tô
A10: 45985 | B10: 270000000 | C10: Cơ sở vật chất
A11: 45988 | B11: 529816000 | C11: lương + hoạt động
A12: 45999 | B12: 563217500 | C12: lương + hoạt động
A13: 46003 | B13: 238355500 | C13: hoạt động
A14: 46014 | B14: 881500000 | C14: ô tô
B16: =SUM(B3:B15) -> 7602220313 | C16: =SUM(C3:C15) -> 0 | D16: =SUM(D3:D15) -> 0 | E16: =SUM(E3:E15) -> 3310041313 | F16: =B16-E16 -> 4292179000
A22: 45978 | B22: 171623000 | C22: hoạt động

Sheet Trường
A2: 1 | B2: Tiểu học 1 | C2: 16315860000 | E2: Quân sự | F2: 0 11 | G2: 817781310 | H2: 457185016 | I2: =G2+H2 -> 1274966326
B3: Tiểu học Thạch Long | C3: 9059671000 | E3: Công an | F3: 0 41 | G3: 301785370 | I3: =G3+H3 -> 301785370
B4: Tiểu học 2 | C4: 4845363000 | E4: Văn hóa | F4: 161 | G4: 263087960 | H4: 3600000 | I4: =G4+H4 -> 266687960
B5: Tiểu học Thạch Sơn | C5: 7287680000 | F5: 161 | G5: 100000000 | I5: =G5+H5 -> 100000000
B6: Mầm non 1 | C6: 9419131000 | E6: Thể dục thể thao | F6: 221 | G6: 156448662 | I6: =G6+H6 -> 156448662
B7: Mầm non Thạch Long | C7: 5468610000 | E7: Xử lý chất thải rắn | F7: 261 | G7: 898385076 | H7: 469789391 | I7: =G7+H7 -> 1368174467
F8: 262 | H8: 20000000 | I8: =G8+H8 -> 20000000
B9: Mầm non Thạch Sơn | C9: 5159995000 | E9: Nông nghiệp và dịch vụ nông nghiệp | F9: 281 | G9: 1136808750 | H9: 97000000 | I9: =G9+H9 -> 1233808750
B10: Mầm non 2 | C10: 3070584000 | G10: 112500000 | H10: 311000000 | I10: =G10+H10 -> 423500000
B11: Phan Huy Chú | C11: 20082028000 | G11: 10000000 | H11: 49000000 | I11: =G11+H11 -> 59000000
B12: Long Sơn | C12: 13859285000 | G12: 31199000 | H12: 73900000 | I12: =G12+H12 -> 105099000
G13: 36000000 | H13: 22000000 | I13: =G13+H13 -> 58000000
C14: =SUM(C2:C13) -> 94568207000 | H14: 3500000 | I14: =G14+H14 -> 3500000
H15: 5430000 | I15: =G15+H15 -> 5430000
H16: 9000000 | I16: =G16+H16 -> 9000000
H17: 1500000 | I17: =G17+H17 -> 1500000
H18: 2670000 | I18: =G18+H18 -> 2670000
E19: Thủy lợi và dịch vụ thủy lợi | F19: 283 | G19: 1114489021 | I19: =G19+H19 -> 1114489021
E20: Giao thông | F20: 292 | G20: 1112954100 | I20: =G20+H20 -> 1112954100
E21: Thị chính | F21: 312 | G21: 3218487711 | H21: 2185661661 | I21: =G21+H21 -> 5404149372
F22: 341 | G22: 2411817343 | H22: 17452812597 | I22: =G22+H22 -> 19864629940
G23: 10000000 | H23: 1611527580 | I23: =G23+H23 -> 1621527580
G24: 10000000 | H24: 436822841 | I24: =G24+H24 -> 446822841
B25: Tiết kiệm chi huyện | C25: 3305000000 | G25: 70000000 | H25: 16282478326 | I25: =G25+H25 -> 16352478326
B26: Nộp trả ngân sách | C26: 36718216820 | F26: 351 | G26: 77249400 | H26: 4032092060 | I26: =G26+H26 -> 4109341460
H27: 35708000 | I27: =G27+H27 -> 35708000
C28: =SUM(C25:C27) -> 40023216820 | F28: 361 | G28: 27200000 | H28: 3120553200 | I28: =G28+H28 -> 3147753200
H29: 2713371000 | I29: =G29+H29 -> 2713371000
F30: 362 | G30: 17000000 | H30: 625931870 | I30: =G30+H30 -> 642931870 | J30: =I30+I31 -> 1437946870
H31: 795015000 | I31: =G31+H31 -> 795015000
F32: 371 | G32: 1289199134 | H32: 46800000 | I32: =G32+H32 -> 1335999134
H33: 317600000 | I33: =G33+H33 -> 317600000
E34: Lương hưu và trợ cấp bảo hiểm xã hội | F34: 374 | G34: 808624100 | I34: =G34+H34 -> 808624100
E35: Chính sách và hoạt động phục vụ các đối tượng bảo trợ xã hội và các đối tượng khác | F35: 398 | G35: 5696110000 | H35: 1866844080 | I35: =G35+H35 -> 7562954080 | J35: =I35+I36+I37 -> 11170854080
H36: 3075900000 | I36: =G36+H36 -> 3075900000
H37: 532000000 | I37: =G37+H37 -> 532000000
E38: Hỗ trợ kinh phí mua thẻ bảo hiểm y tế cho các đối tượng chính sách | F38: 133 | H38: 995611602 | I38: =G38+H38 -> 995611602
I40: =SUM(I2:I39) -> 77379431161
